BEGIN:VCALENDAR
VERSION:2.0
PRODID:-//Creche bambi - ECPv6.8.1//NONSGML v1.0//EN
CALSCALE:GREGORIAN
METHOD:PUBLISH
X-ORIGINAL-URL:https://bambiland.be
X-WR-CALDESC:Évènements pour Creche bambi
REFRESH-INTERVAL;VALUE=DURATION:PT1H
X-Robots-Tag:noindex
X-PUBLISHED-TTL:PT1H
BEGIN:VTIMEZONE
TZID:UTC
BEGIN:STANDARD
TZOFFSETFROM:+0000
TZOFFSETTO:+0000
TZNAME:UTC
DTSTART:20220101T000000
END:STANDARD
END:VTIMEZONE
BEGIN:VEVENT
DTSTART;VALUE=DATE:20251111
DTEND;VALUE=DATE:20251112
DTSTAMP:20260425T173345
CREATED:20241119T123327Z
LAST-MODIFIED:20241119T125856Z
UID:14622-1762819200-1762905599@bambiland.be
SUMMARY:Armistice
DESCRIPTION:🕊 Une journée pour se souvenir de la fin de la Première Guerre mondiale. Les enfants entendent parfois parler de paix et d’histoire lors de cette journée importante.
URL:https://bambiland.be/event/armistice/
ATTACH;FMTTYPE=image/webp:https://bambiland.be/wp-content/uploads/2024/11/armistice-1918-milan.webp
END:VEVENT
BEGIN:VEVENT
DTSTART;VALUE=DATE:20250815
DTEND;VALUE=DATE:20250816
DTSTAMP:20260425T173345
CREATED:20241119T123007Z
LAST-MODIFIED:20241119T130353Z
UID:14618-1755216000-1755302399@bambiland.be
SUMMARY:Assomption
DESCRIPTION:🌼 Une fête religieuse honorant la Vierge Marie. Souvent marquée par des processions ou simplement un jour tranquille en été.
URL:https://bambiland.be/event/assomption/
ATTACH;FMTTYPE=image/avif:https://bambiland.be/wp-content/uploads/2024/11/assomption-plate-illustration-marie_23-2149000941.avif
END:VEVENT
BEGIN:VEVENT
DTSTART;VALUE=DATE:20250721
DTEND;VALUE=DATE:20250722
DTSTAMP:20260425T173345
CREATED:20241119T122929Z
LAST-MODIFIED:20241119T130931Z
UID:14616-1753056000-1753142399@bambiland.be
SUMMARY:Fête Nationale
DESCRIPTION:🇧🇪 La Belgique célèbre son indépendance avec des défilés\, des drapeaux et parfois des feux d’artifice. Les enfants adorent les festivités colorées !
URL:https://bambiland.be/event/fete-nationale/
ATTACH;FMTTYPE=image/jpeg:https://bambiland.be/wp-content/uploads/2024/11/23452778-content-belgique-independance-journee-sur-juillet-21-vecteur-illustration-avec-agitant-drapeau-contexte-dans-plat-dessin-anime-main-tire-pour-atterrissage-page-modeles-vectoriel.jpg
END:VEVENT
BEGIN:VEVENT
DTSTART;VALUE=DATE:20250520
DTEND;VALUE=DATE:20250521
DTSTAMP:20260425T173345
CREATED:20241119T122846Z
LAST-MODIFIED:20241119T131551Z
UID:14614-1747699200-1747785599@bambiland.be
SUMMARY:Lundi de Pentecôte
DESCRIPTION:🔥 Une fête religieuse marquant la venue de l’Esprit Saint. Pour les petits\, c’est une journée supplémentaire de repos souvent dédiée aux activités en famille.
URL:https://bambiland.be/event/lundi-de-pentecote/
ATTACH;FMTTYPE=image/jpeg:https://bambiland.be/wp-content/uploads/2024/11/1000_F_508513388_NT7ljLQng25bGAtzzdG0Et0lBX49VDR0.jpg
END:VEVENT
BEGIN:VEVENT
DTSTART;VALUE=DATE:20250509
DTEND;VALUE=DATE:20250510
DTSTAMP:20260425T173345
CREATED:20241119T122752Z
LAST-MODIFIED:20241119T140016Z
UID:14612-1746748800-1746835199@bambiland.be
SUMMARY:Ascension
DESCRIPTION:☁️ Une fête religieuse célébrant l’Ascension de Jésus au ciel. Pour les enfants\, c’est une journée de congé au cœur du printemps.
URL:https://bambiland.be/event/ascension/
ATTACH;FMTTYPE=image/webp:https://bambiland.be/wp-content/uploads/2024/11/cute-jesus-christ-cartoon-character-260nw-2241868657.webp
END:VEVENT
BEGIN:VEVENT
DTSTART;VALUE=DATE:20250501
DTEND;VALUE=DATE:20250502
DTSTAMP:20260425T173345
CREATED:20241119T122707Z
LAST-MODIFIED:20241119T140151Z
UID:14610-1746057600-1746143999@bambiland.be
SUMMARY:Fête du Travail
DESCRIPTION:🌷 Une journée dédiée aux travailleurs\, mais pour les petits\, c’est souvent un jour de repos et l’occasion de profiter du printemps.
URL:https://bambiland.be/event/fete-du-travail/
ATTACH;FMTTYPE=image/avif:https://bambiland.be/wp-content/uploads/2024/11/fond-plat-pour-celebration-fete-du-travail_23-2150192447.avif
END:VEVENT
BEGIN:VEVENT
DTSTART;VALUE=DATE:20250401
DTEND;VALUE=DATE:20250402
DTSTAMP:20260425T173345
CREATED:20241119T122609Z
LAST-MODIFIED:20241119T140709Z
UID:14608-1743465600-1743551999@bambiland.be
SUMMARY:Lundi de Pâques
DESCRIPTION:🐣 C’est le lendemain de Pâques\, une fête souvent associée à la chasse aux œufs en chocolat et à des moments joyeux passés en famille.
URL:https://bambiland.be/event/lundi-de-paques/
ATTACH;FMTTYPE=image/webp:https://bambiland.be/wp-content/uploads/2024/11/57821792.webp
END:VEVENT
BEGIN:VEVENT
DTSTART;VALUE=DATE:20250101
DTEND;VALUE=DATE:20250102
DTSTAMP:20260425T173345
CREATED:20241119T122506Z
LAST-MODIFIED:20241119T140957Z
UID:14606-1735689600-1735775999@bambiland.be
SUMMARY:Jour de l’An
DESCRIPTION:🎉 Le premier jour de l’année ! C’est une journée de fête pour accueillir la nouvelle année avec joie. Les enfants peuvent entendre des feux d’artifice et recevoir des vœux de bonheur et de santé.
URL:https://bambiland.be/event/jour-de-lan/
ATTACH;FMTTYPE=image/webp:https://bambiland.be/wp-content/uploads/2024/11/612038699-1024x700-1.webp
END:VEVENT
BEGIN:VEVENT
DTSTART;TZID=UTC:20241223T000000
DTEND;TZID=UTC:20241227T235900
DTSTAMP:20260425T173345
CREATED:20241117T130337Z
LAST-MODIFIED:20241212T104555Z
UID:14565-1734912000-1735343940@bambiland.be
SUMMARY:Vacances de Noël
DESCRIPTION:🌟 Une pause festive pour célébrer Noël et la nouvelle année. C’est le moment des sapins décorés\, des cadeaux\, et des chants de Noël. Les enfants profitent de cette période pour passer du temps en famille et vivre la magie des fêtes.
URL:https://bambiland.be/event/noel/
CATEGORIES:Family
ATTACH;FMTTYPE=image/jpeg:https://bambiland.be/wp-content/uploads/2024/11/children-dance-at-christmas-party-in-lights-happy-childhood-free-photo.jpg
END:VEVENT
BEGIN:VEVENT
DTSTART;TZID=UTC:20241118T080000
DTEND;TZID=UTC:20241118T170000
DTSTAMP:20260425T173345
CREATED:20241117T130258Z
LAST-MODIFIED:20241117T130516Z
UID:14566-1731916800-1731949200@bambiland.be
SUMMARY:Jours fériés
DESCRIPTION:
URL:https://bambiland.be/event/jours-feries/
END:VEVENT
BEGIN:VEVENT
DTSTART;VALUE=DATE:20241101
DTEND;VALUE=DATE:20241102
DTSTAMP:20260425T173345
CREATED:20241119T123126Z
LAST-MODIFIED:20241119T123222Z
UID:14620-1730419200-1730505599@bambiland.be
SUMMARY:Toussaint
DESCRIPTION:
URL:https://bambiland.be/event/toussaint/
END:VEVENT
BEGIN:VEVENT
DTSTART;TZID=UTC:20241028T080000
DTEND;TZID=UTC:20241101T170000
DTSTAMP:20260425T173345
CREATED:20241119T123854Z
LAST-MODIFIED:20241119T123854Z
UID:14630-1730102400-1730480400@bambiland.be
SUMMARY:Vacances de Toussaint (automne)
DESCRIPTION:
URL:https://bambiland.be/event/vacances-de-toussaint-automne/
END:VEVENT
BEGIN:VEVENT
DTSTART;TZID=UTC:20240701T080000
DTEND;TZID=UTC:20240830T170000
DTSTAMP:20260425T173345
CREATED:20241119T123747Z
LAST-MODIFIED:20241119T123747Z
UID:14628-1719820800-1725037200@bambiland.be
SUMMARY:Vacances d’Été
DESCRIPTION:
URL:https://bambiland.be/event/vacances-dete/
END:VEVENT
BEGIN:VEVENT
DTSTART;TZID=UTC:20240401T080000
DTEND;TZID=UTC:20240412T170000
DTSTAMP:20260425T173345
CREATED:20241119T123617Z
LAST-MODIFIED:20241119T123626Z
UID:14626-1711958400-1712941200@bambiland.be
SUMMARY:Vacances de Printemps (Pâques)
DESCRIPTION:
URL:https://bambiland.be/event/vacances-de-printemps-paques/
END:VEVENT
BEGIN:VEVENT
DTSTART;TZID=UTC:20240212T080000
DTEND;TZID=UTC:20240216T180000
DTSTAMP:20260425T173345
CREATED:20241119T123513Z
LAST-MODIFIED:20241119T123513Z
UID:14624-1707724800-1708106400@bambiland.be
SUMMARY:Vacances de Carnaval (hiver)
DESCRIPTION:
URL:https://bambiland.be/event/vacances-de-carnaval-hiver/
END:VEVENT
BEGIN:VEVENT
DTSTART;VALUE=DATE:20220720
DTEND;VALUE=DATE:20220723
DTSTAMP:20260425T173345
CREATED:20160701T000000Z
LAST-MODIFIED:20160701T000000Z
UID:10792-1658275200-1658534399@bambiland.be
SUMMARY:Hello\, Autumn!
DESCRIPTION:Cras dapibus ullamcorper dictum. Vivamus nec erat placerat felis scelerisque porttitor in ac turpis. In nec imperdiet turpis. Suspendisse quis orci ut orci pulvinar eleifend. Nulla eu mattis ipsum. Integer eget sagittis nulla. Praesent consectetur lacus et maximus eleifend. Integer non lacus dui. Mauris tortor diam\, laoreet quis commodo vitae\, sodales vel augue.| Sed rutrum\, libero non pretium tristique\, arcu mi sollicitudin ex\, quis venenatis orci tellus vel dolor. Donec gravida\, dolor ut auctor facilisis\, enim dolor pellentesque lectus\, nec vehicula nibh risus ac leo. Mauris volutpat aliquam tellus nec rhoncus. Aliquam et nibh pulvinar\, sodales nibh et\, pretium urna. Vivamus quam augue\, maximus in consequat imperdiet\, iaculis non nibh. Aliquam erat volutpat. Curabitur venenatis massa sed lacus tristique\, non auctor nisl sodales. Sed ultricies lacus ut libero faucibus fringilla. Ut nisi tellus\, posuere vel mattis nec\, convallis a metus. Nullam elementum molestie felis nec lobortis. Cras at justo eu elit semper tempor sed quis orci. In risus magna\, malesuada vel elementum ut\, finibus et nunc. \n 
URL:https://bambiland.be/event/hello-autumn/
LOCATION:Central Park\, Brooklyn\, NY 10036\, New York\, United States
CATEGORIES:Fun
ATTACH;FMTTYPE=image/jpeg:https://bambiland.be/wp-content/uploads/2018/03/03-1.jpg
ORGANIZER;CN="Nick Sims":MAILTO:sims@example.com
END:VEVENT
BEGIN:VEVENT
DTSTART;VALUE=DATE:20220720
DTEND;VALUE=DATE:20220723
DTSTAMP:20260425T173345
CREATED:20160701T000000Z
LAST-MODIFIED:20160701T000000Z
UID:14271-1658275200-1658534399@bambiland.be
SUMMARY:Hello\, Autumn!
DESCRIPTION:Cras dapibus ullamcorper dictum. Vivamus nec erat placerat felis scelerisque porttitor in ac turpis. In nec imperdiet turpis. Suspendisse quis orci ut orci pulvinar eleifend. Nulla eu mattis ipsum. Integer eget sagittis nulla. Praesent consectetur lacus et maximus eleifend. Integer non lacus dui. Mauris tortor diam\, laoreet quis commodo vitae\, sodales vel augue.| Sed rutrum\, libero non pretium tristique\, arcu mi sollicitudin ex\, quis venenatis orci tellus vel dolor. Donec gravida\, dolor ut auctor facilisis\, enim dolor pellentesque lectus\, nec vehicula nibh risus ac leo. Mauris volutpat aliquam tellus nec rhoncus. Aliquam et nibh pulvinar\, sodales nibh et\, pretium urna. Vivamus quam augue\, maximus in consequat imperdiet\, iaculis non nibh. Aliquam erat volutpat. Curabitur venenatis massa sed lacus tristique\, non auctor nisl sodales. Sed ultricies lacus ut libero faucibus fringilla. Ut nisi tellus\, posuere vel mattis nec\, convallis a metus. Nullam elementum molestie felis nec lobortis. Cras at justo eu elit semper tempor sed quis orci. In risus magna\, malesuada vel elementum ut\, finibus et nunc. \n 
URL:https://bambiland.be/event/hello-autumn-2/
LOCATION:Central Park\, Brooklyn\, NY 10036\, New York\, United States
CATEGORIES:Fun
ATTACH;FMTTYPE=image/jpeg:https://bambiland.be/wp-content/uploads/2018/03/03-1.jpg
ORGANIZER;CN="Nick Sims":MAILTO:sims@example.com
END:VEVENT
BEGIN:VEVENT
DTSTART;VALUE=DATE:20220629
DTEND;VALUE=DATE:20220704
DTSTAMP:20260425T173345
CREATED:20160705T000000Z
LAST-MODIFIED:20160705T000000Z
UID:10800-1656460800-1656892799@bambiland.be
SUMMARY:Day of Love\, Family and  Fidelity
DESCRIPTION:Cras dapibus ullamcorper dictum. Vivamus nec erat placerat felis scelerisque porttitor in ac turpis. In nec imperdiet turpis. Suspendisse quis orci ut orci pulvinar eleifend. Nulla eu mattis ipsum. Integer eget sagittis nulla. Praesent consectetur lacus et maximus eleifend. Integer non lacus dui. Mauris tortor diam\, laoreet quis commodo vitae\, sodales vel augue.| Sed rutrum\, libero non pretium tristique\, arcu mi sollicitudin ex\, quis venenatis orci tellus vel dolor. Donec gravida\, dolor ut auctor facilisis\, enim dolor pellentesque lectus\, nec vehicula nibh risus ac leo. Mauris volutpat aliquam tellus nec rhoncus. Aliquam et nibh pulvinar\, sodales nibh et\, pretium urna. Vivamus quam augue\, maximus in consequat imperdiet\, iaculis non nibh. Aliquam erat volutpat. Curabitur venenatis massa sed lacus tristique\, non auctor nisl sodales. Sed ultricies lacus ut libero faucibus fringilla. Ut nisi tellus\, posuere vel mattis nec\, convallis a metus. Nullam elementum molestie felis nec lobortis. Cras at justo eu elit semper tempor sed quis orci. In risus magna\, malesuada vel elementum ut\, finibus et nunc. \n 
URL:https://bambiland.be/event/day-of-love-family-and-fidelity/
LOCATION:Central Park\, Brooklyn\, NY 10036\, New York\, United States
CATEGORIES:Fun
ORGANIZER;CN="Nick Sims":MAILTO:sims@example.com
END:VEVENT
BEGIN:VEVENT
DTSTART;VALUE=DATE:20220629
DTEND;VALUE=DATE:20220704
DTSTAMP:20260425T173345
CREATED:20160705T000000Z
LAST-MODIFIED:20160705T000000Z
UID:14272-1656460800-1656892799@bambiland.be
SUMMARY:Day of Love\, Family and  Fidelity
DESCRIPTION:Cras dapibus ullamcorper dictum. Vivamus nec erat placerat felis scelerisque porttitor in ac turpis. In nec imperdiet turpis. Suspendisse quis orci ut orci pulvinar eleifend. Nulla eu mattis ipsum. Integer eget sagittis nulla. Praesent consectetur lacus et maximus eleifend. Integer non lacus dui. Mauris tortor diam\, laoreet quis commodo vitae\, sodales vel augue.| Sed rutrum\, libero non pretium tristique\, arcu mi sollicitudin ex\, quis venenatis orci tellus vel dolor. Donec gravida\, dolor ut auctor facilisis\, enim dolor pellentesque lectus\, nec vehicula nibh risus ac leo. Mauris volutpat aliquam tellus nec rhoncus. Aliquam et nibh pulvinar\, sodales nibh et\, pretium urna. Vivamus quam augue\, maximus in consequat imperdiet\, iaculis non nibh. Aliquam erat volutpat. Curabitur venenatis massa sed lacus tristique\, non auctor nisl sodales. Sed ultricies lacus ut libero faucibus fringilla. Ut nisi tellus\, posuere vel mattis nec\, convallis a metus. Nullam elementum molestie felis nec lobortis. Cras at justo eu elit semper tempor sed quis orci. In risus magna\, malesuada vel elementum ut\, finibus et nunc. \n 
URL:https://bambiland.be/event/day-of-love-family-and-fidelity-2/
LOCATION:Central Park\, Brooklyn\, NY 10036\, New York\, United States
CATEGORIES:Fun
ORGANIZER;CN="Nick Sims":MAILTO:sims@example.com
END:VEVENT
BEGIN:VEVENT
DTSTART;VALUE=DATE:20220517
DTEND;VALUE=DATE:20220522
DTSTAMP:20260425T173345
CREATED:20160713T000000Z
LAST-MODIFIED:20160713T000000Z
UID:10801-1652745600-1653177599@bambiland.be
SUMMARY:Our Merry Summer!
DESCRIPTION:Cras dapibus ullamcorper dictum. Vivamus nec erat placerat felis scelerisque porttitor in ac turpis. In nec imperdiet turpis. Suspendisse quis orci ut orci pulvinar eleifend. Nulla eu mattis ipsum. Integer eget sagittis nulla. Praesent consectetur lacus et maximus eleifend. Integer non lacus dui. Mauris tortor diam\, laoreet quis commodo vitae\, sodales vel augue.| Sed rutrum\, libero non pretium tristique\, arcu mi sollicitudin ex\, quis venenatis orci tellus vel dolor. Donec gravida\, dolor ut auctor facilisis\, enim dolor pellentesque lectus\, nec vehicula nibh risus ac leo. Mauris volutpat aliquam tellus nec rhoncus. Aliquam et nibh pulvinar\, sodales nibh et\, pretium urna. Vivamus quam augue\, maximus in consequat imperdiet\, iaculis non nibh. Aliquam erat volutpat. Curabitur venenatis massa sed lacus tristique\, non auctor nisl sodales. Sed ultricies lacus ut libero faucibus fringilla. Ut nisi tellus\, posuere vel mattis nec\, convallis a metus. Nullam elementum molestie felis nec lobortis. Cras at justo eu elit semper tempor sed quis orci. In risus magna\, malesuada vel elementum ut\, finibus et nunc. \n 
URL:https://bambiland.be/event/our-merry-summer/
LOCATION:Central Park\, Brooklyn\, NY 10036\, New York\, United States
CATEGORIES:Kindergarten
ATTACH;FMTTYPE=image/jpeg:https://bambiland.be/wp-content/uploads/2018/03/03-1.jpg
ORGANIZER;CN="Nick Sims":MAILTO:sims@example.com
END:VEVENT
BEGIN:VEVENT
DTSTART;VALUE=DATE:20220517
DTEND;VALUE=DATE:20220522
DTSTAMP:20260425T173345
CREATED:20160713T000000Z
LAST-MODIFIED:20160713T000000Z
UID:14273-1652745600-1653177599@bambiland.be
SUMMARY:Our Merry Summer!
DESCRIPTION:Cras dapibus ullamcorper dictum. Vivamus nec erat placerat felis scelerisque porttitor in ac turpis. In nec imperdiet turpis. Suspendisse quis orci ut orci pulvinar eleifend. Nulla eu mattis ipsum. Integer eget sagittis nulla. Praesent consectetur lacus et maximus eleifend. Integer non lacus dui. Mauris tortor diam\, laoreet quis commodo vitae\, sodales vel augue.| Sed rutrum\, libero non pretium tristique\, arcu mi sollicitudin ex\, quis venenatis orci tellus vel dolor. Donec gravida\, dolor ut auctor facilisis\, enim dolor pellentesque lectus\, nec vehicula nibh risus ac leo. Mauris volutpat aliquam tellus nec rhoncus. Aliquam et nibh pulvinar\, sodales nibh et\, pretium urna. Vivamus quam augue\, maximus in consequat imperdiet\, iaculis non nibh. Aliquam erat volutpat. Curabitur venenatis massa sed lacus tristique\, non auctor nisl sodales. Sed ultricies lacus ut libero faucibus fringilla. Ut nisi tellus\, posuere vel mattis nec\, convallis a metus. Nullam elementum molestie felis nec lobortis. Cras at justo eu elit semper tempor sed quis orci. In risus magna\, malesuada vel elementum ut\, finibus et nunc. \n 
URL:https://bambiland.be/event/our-merry-summer-2/
LOCATION:Central Park\, Brooklyn\, NY 10036\, New York\, United States
CATEGORIES:Kindergarten
ATTACH;FMTTYPE=image/jpeg:https://bambiland.be/wp-content/uploads/2018/03/03-1.jpg
ORGANIZER;CN="Nick Sims":MAILTO:sims@example.com
END:VEVENT
BEGIN:VEVENT
DTSTART;VALUE=DATE:20220423
DTEND;VALUE=DATE:20220428
DTSTAMP:20260425T173345
CREATED:20160718T000000Z
LAST-MODIFIED:20160718T000000Z
UID:10803-1650672000-1651103999@bambiland.be
SUMMARY:Birthday Kindergarten
DESCRIPTION:Cras dapibus ullamcorper dictum. Vivamus nec erat placerat felis scelerisque porttitor in ac turpis. In nec imperdiet turpis. Suspendisse quis orci ut orci pulvinar eleifend. Nulla eu mattis ipsum. Integer eget sagittis nulla. Praesent consectetur lacus et maximus eleifend. Integer non lacus dui. Mauris tortor diam\, laoreet quis commodo vitae\, sodales vel augue.| Sed rutrum\, libero non pretium tristique\, arcu mi sollicitudin ex\, quis venenatis orci tellus vel dolor. Donec gravida\, dolor ut auctor facilisis\, enim dolor pellentesque lectus\, nec vehicula nibh risus ac leo. Mauris volutpat aliquam tellus nec rhoncus. Aliquam et nibh pulvinar\, sodales nibh et\, pretium urna. Vivamus quam augue\, maximus in consequat imperdiet\, iaculis non nibh. Aliquam erat volutpat. Curabitur venenatis massa sed lacus tristique\, non auctor nisl sodales. Sed ultricies lacus ut libero faucibus fringilla. Ut nisi tellus\, posuere vel mattis nec\, convallis a metus. Nullam elementum molestie felis nec lobortis. Cras at justo eu elit semper tempor sed quis orci. In risus magna\, malesuada vel elementum ut\, finibus et nunc. \n 
URL:https://bambiland.be/event/birthday-kindergarten/
LOCATION:Central Park\, Brooklyn\, NY 10036\, New York\, United States
CATEGORIES:Kindergarten
ATTACH;FMTTYPE=image/jpeg:https://bambiland.be/wp-content/uploads/2018/03/06.jpg
ORGANIZER;CN="Nick Sims":MAILTO:sims@example.com
END:VEVENT
BEGIN:VEVENT
DTSTART;VALUE=DATE:20220423
DTEND;VALUE=DATE:20220428
DTSTAMP:20260425T173345
CREATED:20160718T000000Z
LAST-MODIFIED:20160718T000000Z
UID:14274-1650672000-1651103999@bambiland.be
SUMMARY:Birthday Kindergarten
DESCRIPTION:Cras dapibus ullamcorper dictum. Vivamus nec erat placerat felis scelerisque porttitor in ac turpis. In nec imperdiet turpis. Suspendisse quis orci ut orci pulvinar eleifend. Nulla eu mattis ipsum. Integer eget sagittis nulla. Praesent consectetur lacus et maximus eleifend. Integer non lacus dui. Mauris tortor diam\, laoreet quis commodo vitae\, sodales vel augue.| Sed rutrum\, libero non pretium tristique\, arcu mi sollicitudin ex\, quis venenatis orci tellus vel dolor. Donec gravida\, dolor ut auctor facilisis\, enim dolor pellentesque lectus\, nec vehicula nibh risus ac leo. Mauris volutpat aliquam tellus nec rhoncus. Aliquam et nibh pulvinar\, sodales nibh et\, pretium urna. Vivamus quam augue\, maximus in consequat imperdiet\, iaculis non nibh. Aliquam erat volutpat. Curabitur venenatis massa sed lacus tristique\, non auctor nisl sodales. Sed ultricies lacus ut libero faucibus fringilla. Ut nisi tellus\, posuere vel mattis nec\, convallis a metus. Nullam elementum molestie felis nec lobortis. Cras at justo eu elit semper tempor sed quis orci. In risus magna\, malesuada vel elementum ut\, finibus et nunc. \n 
URL:https://bambiland.be/event/birthday-kindergarten-2/
LOCATION:Central Park\, Brooklyn\, NY 10036\, New York\, United States
CATEGORIES:Kindergarten
ATTACH;FMTTYPE=image/jpeg:https://bambiland.be/wp-content/uploads/2018/03/06.jpg
ORGANIZER;CN="Nick Sims":MAILTO:sims@example.com
END:VEVENT
BEGIN:VEVENT
DTSTART;VALUE=DATE:20220318
DTEND;VALUE=DATE:20220323
DTSTAMP:20260425T173345
CREATED:20160726T000000Z
LAST-MODIFIED:20160726T000000Z
UID:14275-1647561600-1647993599@bambiland.be
SUMMARY:Let's All Do  Fun Things
DESCRIPTION:Cras dapibus ullamcorper dictum. Vivamus nec erat placerat felis scelerisque porttitor in ac turpis. In nec imperdiet turpis. Suspendisse quis orci ut orci pulvinar eleifend. Nulla eu mattis ipsum. Integer eget sagittis nulla. Praesent consectetur lacus et maximus eleifend. Integer non lacus dui. Mauris tortor diam\, laoreet quis commodo vitae\, sodales vel augue.| Sed rutrum\, libero non pretium tristique\, arcu mi sollicitudin ex\, quis venenatis orci tellus vel dolor. Donec gravida\, dolor ut auctor facilisis\, enim dolor pellentesque lectus\, nec vehicula nibh risus ac leo. Mauris volutpat aliquam tellus nec rhoncus. Aliquam et nibh pulvinar\, sodales nibh et\, pretium urna. Vivamus quam augue\, maximus in consequat imperdiet\, iaculis non nibh. Aliquam erat volutpat. Curabitur venenatis massa sed lacus tristique\, non auctor nisl sodales. Sed ultricies lacus ut libero faucibus fringilla. Ut nisi tellus\, posuere vel mattis nec\, convallis a metus. Nullam elementum molestie felis nec lobortis. Cras at justo eu elit semper tempor sed quis orci. In risus magna\, malesuada vel elementum ut\, finibus et nunc. \n 
URL:https://bambiland.be/event/lets-all-do-fun-things-2/
LOCATION:Central Park\, Brooklyn\, NY 10036\, New York\, United States
CATEGORIES:Family
ORGANIZER;CN="Nick Sims":MAILTO:sims@example.com
END:VEVENT
BEGIN:VEVENT
DTSTART;VALUE=DATE:20220318
DTEND;VALUE=DATE:20220323
DTSTAMP:20260425T173345
CREATED:20160726T000000Z
LAST-MODIFIED:20160726T000000Z
UID:10805-1647561600-1647993599@bambiland.be
SUMMARY:Let's All Do  Fun Things
DESCRIPTION:Cras dapibus ullamcorper dictum. Vivamus nec erat placerat felis scelerisque porttitor in ac turpis. In nec imperdiet turpis. Suspendisse quis orci ut orci pulvinar eleifend. Nulla eu mattis ipsum. Integer eget sagittis nulla. Praesent consectetur lacus et maximus eleifend. Integer non lacus dui. Mauris tortor diam\, laoreet quis commodo vitae\, sodales vel augue.| Sed rutrum\, libero non pretium tristique\, arcu mi sollicitudin ex\, quis venenatis orci tellus vel dolor. Donec gravida\, dolor ut auctor facilisis\, enim dolor pellentesque lectus\, nec vehicula nibh risus ac leo. Mauris volutpat aliquam tellus nec rhoncus. Aliquam et nibh pulvinar\, sodales nibh et\, pretium urna. Vivamus quam augue\, maximus in consequat imperdiet\, iaculis non nibh. Aliquam erat volutpat. Curabitur venenatis massa sed lacus tristique\, non auctor nisl sodales. Sed ultricies lacus ut libero faucibus fringilla. Ut nisi tellus\, posuere vel mattis nec\, convallis a metus. Nullam elementum molestie felis nec lobortis. Cras at justo eu elit semper tempor sed quis orci. In risus magna\, malesuada vel elementum ut\, finibus et nunc. \n 
URL:https://bambiland.be/event/lets-all-do-fun-things/
LOCATION:Central Park\, Brooklyn\, NY 10036\, New York\, United States
CATEGORIES:Family
ORGANIZER;CN="Nick Sims":MAILTO:sims@example.com
END:VEVENT
END:VCALENDAR